BEGIN:VCALENDAR
VERSION:2.0
PRODID:-//YCRM e.V. - ECPv6.15.20//NONSGML v1.0//EN
CALSCALE:GREGORIAN
METHOD:PUBLISH
X-WR-CALNAME:YCRM e.V.
X-ORIGINAL-URL:https://www.ycrm.de
X-WR-CALDESC:Veranstaltungen für YCRM e.V.
REFRESH-INTERVAL;VALUE=DURATION:PT1H
X-Robots-Tag:noindex
X-PUBLISHED-TTL:PT1H
BEGIN:VTIMEZONE
TZID:Europe/Berlin
BEGIN:DAYLIGHT
TZOFFSETFROM:+0100
TZOFFSETTO:+0200
TZNAME:CEST
DTSTART:20250330T010000
END:DAYLIGHT
BEGIN:STANDARD
TZOFFSETFROM:+0200
TZOFFSETTO:+0100
TZNAME:CET
DTSTART:20251026T010000
END:STANDARD
BEGIN:DAYLIGHT
TZOFFSETFROM:+0100
TZOFFSETTO:+0200
TZNAME:CEST
DTSTART:20260329T010000
END:DAYLIGHT
BEGIN:STANDARD
TZOFFSETFROM:+0200
TZOFFSETTO:+0100
TZNAME:CET
DTSTART:20261025T010000
END:STANDARD
BEGIN:DAYLIGHT
TZOFFSETFROM:+0100
TZOFFSETTO:+0200
TZNAME:CEST
DTSTART:20270328T010000
END:DAYLIGHT
BEGIN:STANDARD
TZOFFSETFROM:+0200
TZOFFSETTO:+0100
TZNAME:CET
DTSTART:20271031T010000
END:STANDARD
END:VTIMEZONE
BEGIN:VEVENT
DTSTART;TZID=Europe/Berlin:20260501T110000
DTEND;TZID=Europe/Berlin:20260501T130000
DTSTAMP:20260421T121111
CREATED:20251030T010452Z
LAST-MODIFIED:20251030T012341Z
UID:2104-1777633200-1777640400@www.ycrm.de
SUMMARY:⛵️🚤Ansegeln des Yacht-Club Rhein-Mosel e.V.
DESCRIPTION:Liebe Seglerinnen und Segler ⛵️\,liebe Mitglieder 🛥️ und Freunde 🚤 des Yacht-Club Rhein-Mosel\, \nder Winter liegt hinter uns – es ist endlich wieder soweit: Wir starten in die neue Segelsaison!Dazu laden wir euch herzlich zum traditionellen Ansegeln ein. \nWann: Freitag\, 1. Mai 2026Wo: Clubgelände des Yacht-Club Rhein-Mosel e.V. \nGemeinsam wollen wir die Saison eröffnen\, die Boote zu Wasser bringen und bei einer gemütlichen Ausfahrt den Frühling auf dem Wasser begrüßen. Anschließend erwartet euch ein geselliges Beisammensein im Club. \nOb mit eigenem Boot oder als Crew-Mitglied – alle sind herzlich eingeladen\, dabei zu sein!Wir freuen uns über zahlreiche Teilnehmer und auf einen gelungenen Start in die Saison 2026. \nMit sportlichen GrüßenEuerYacht-Club Rhein-Mosel e.V.
URL:https://www.ycrm.de/event/%e2%9b%b5%ef%b8%8f%f0%9f%9a%a4ansegeln-des-yacht-club-rhein-mosel-e-v/
LOCATION:Yacht-Club Rhein-Mosel e.V.\, An d. Fähre 4B\, Koblenz\, RLP\, 56072\, Germany
CATEGORIES:Veranstaltungen,Vereinsleben
END:VEVENT
END:VCALENDAR