BEGIN:VCALENDAR
VERSION:2.0
PRODID:-//YCRM e.V. - ECPv6.15.20//NONSGML v1.0//EN
CALSCALE:GREGORIAN
METHOD:PUBLISH
X-WR-CALNAME:YCRM e.V.
X-ORIGINAL-URL:https://www.ycrm.de
X-WR-CALDESC:Veranstaltungen für YCRM e.V.
REFRESH-INTERVAL;VALUE=DURATION:PT1H
X-Robots-Tag:noindex
X-PUBLISHED-TTL:PT1H
BEGIN:VTIMEZONE
TZID:Europe/Berlin
BEGIN:DAYLIGHT
TZOFFSETFROM:+0100
TZOFFSETTO:+0200
TZNAME:CEST
DTSTART:20250330T010000
END:DAYLIGHT
BEGIN:STANDARD
TZOFFSETFROM:+0200
TZOFFSETTO:+0100
TZNAME:CET
DTSTART:20251026T010000
END:STANDARD
BEGIN:DAYLIGHT
TZOFFSETFROM:+0100
TZOFFSETTO:+0200
TZNAME:CEST
DTSTART:20260329T010000
END:DAYLIGHT
BEGIN:STANDARD
TZOFFSETFROM:+0200
TZOFFSETTO:+0100
TZNAME:CET
DTSTART:20261025T010000
END:STANDARD
BEGIN:DAYLIGHT
TZOFFSETFROM:+0100
TZOFFSETTO:+0200
TZNAME:CEST
DTSTART:20270328T010000
END:DAYLIGHT
BEGIN:STANDARD
TZOFFSETFROM:+0200
TZOFFSETTO:+0100
TZNAME:CET
DTSTART:20271031T010000
END:STANDARD
END:VTIMEZONE
BEGIN:VEVENT
DTSTART;TZID=Europe/Berlin:20260829T110000
DTEND;TZID=Europe/Berlin:20260830T160000
DTSTAMP:20260419T182219
CREATED:20251113T020318Z
LAST-MODIFIED:20251113T020318Z
UID:2146-1788001200-1788105600@www.ycrm.de
SUMMARY:🏰 Koblenzer Buddelschiff OPTI A/B 🚀
DESCRIPTION:🏆 Einladung zur Regatta „Koblenzer Buddelschiff“ 2026 🏆Optimist \nen-Klasse A & BYacht-Club Rhein-Mosel e.V. – Koblenz \nAhoi liebe Opti-Seglerinnen und Opti-Segler! ⚓⛵ \nDer Yacht-Club Rhein-Mosel e.V. lädt euch ganz herzlich zur Regatta „Koblenzer Buddelschiff“ ein!Kommt nach Koblenz und zeigt\, was in euch steckt – bei spannenden Wettfahrten auf der Mosel\, mitten in der tollen Kulisse zwischen den Weinbergen und dem Deutschem Eck . \n \nWann: Samstag & Sonntag\, 29.–30. August 2026Wo: Clubgelände des Yacht-Club Rhein-Mosel e.V.\, KoblenzKlassen: Optimist A & Optimist B \nAblauf: \n\n\nSamstag\, \n\n\nSteuermannsbesprechung um 11:00 Uhr \n\n\nErste Wett \n\n\nfahrt ab 12:00 Uhr \n\n\nDanach gemeinsames Eisessen und Seglerabend mit Grillen 🍦🔥 \n\n\n\n\n 29. August: \n\n\nSonntag\, 30. August: \n\n\nWeitere Wettfahrten ab 10:00 Uhr \n\n\nSiegerehrung im Anschluss an die letzte Wettfahrt – mit kleinen Überraschungen für alle Teilnehmenden 🎁 \n\n\n\n\nStartgeld: 20\,– € pro Boot (inkl. Verpflegung & Abendessen am Samstag) \nMeldung:Bitte meldet euch bis spätestens 24. August 2026 über www.manage2sail.com an. \nFür Begleitboote\, Trailerstellplätze und Campingmöglichkeiten auf dem Clubgelände ist gesorgt. \nWir freuen uns auf viele junge Seglerinnen und Segler\, spannende Wettfahrten\, faire Rennen – und ganz viel Spaß auf dem Wasser! 🌞💨 \nMit sportlichen GrüßenEuerYacht-Club Rhein-Mosel e.V.www.ycrm.de
URL:https://www.ycrm.de/event/%f0%9f%8f%b0-koblenzer-buddelschiff-opti-a-b-%f0%9f%9a%80/
CATEGORIES:Regatta,Veranstaltungen
END:VEVENT
END:VCALENDAR